BEGIN:VCALENDAR
VERSION:2.0
PRODID:-//Squarespace Inc/Squarespace 6//v6//EN
BEGIN:VEVENT
UID:533bca23e4b01e110d80ec0d@squarespace.com
DTSTAMP:20140708T231735Z
DTSTART:20141006T193000Z
DTEND:20141010T040000Z
SUMMARY:World Green Infrastructure Congress 2014
END:VEVENT
END:VCALENDAR
