BEGIN:VCALENDAR
VERSION:2.0
PRODID:-//Squarespace Inc/Squarespace 6//v6//EN
BEGIN:VEVENT
UID:52e768e8e4b0ca4188f68ff8@squarespace.com
DTSTAMP:20140304T050014Z
DTSTART:20140318T040000Z
DTEND:20140318T053000Z
SUMMARY:Living Roofs NZ Sponsors Meeting
GEO:-36.870717;174.746929
LOCATION:Kingsland\, Auckland\, Auckland\, 1021\, New Zealand
END:VEVENT
END:VCALENDAR
